BEGIN:VCALENDAR
VERSION:2.0
PRODID:-//WCFD7 - ECPv6.8.3//NONSGML v1.0//EN
CALSCALE:GREGORIAN
METHOD:PUBLISH
X-ORIGINAL-URL:https://www.wcfd7.org
X-WR-CALDESC:Events for WCFD7
REFRESH-INTERVAL;VALUE=DURATION:PT1H
X-Robots-Tag:noindex
X-PUBLISHED-TTL:PT1H
BEGIN:VTIMEZONE
TZID:America/Los_Angeles
BEGIN:DAYLIGHT
TZOFFSETFROM:-0800
TZOFFSETTO:-0700
TZNAME:PDT
DTSTART:20260308T100000
END:DAYLIGHT
BEGIN:STANDARD
TZOFFSETFROM:-0700
TZOFFSETTO:-0800
TZNAME:PST
DTSTART:20261101T090000
END:STANDARD
END:VTIMEZONE
BEGIN:VEVENT
DTSTART;TZID=America/Los_Angeles:20260203T130000
DTEND;TZID=America/Los_Angeles:20260203T150000
DTSTAMP:20260423T045901
CREATED:20260202T185440Z
LAST-MODIFIED:20260202T190225Z
UID:3642-1770123600-1770130800@www.wcfd7.org
SUMMARY:SPECIAL MEETING 2/3/26
DESCRIPTION:WCFD7 will be holding a Special Meeting on \nTuesday\, February 3\, 2026\, at 1:00pm \nat the district’s Administrative Building\,\n2020 Washington Street\, Ferndale.\n  \nThe purpose of the meeting will be to assess options for a support facility and evaluate hiring of career positions.
URL:https://www.wcfd7.org/event/special-meeting-2-3-26/
LOCATION:Whatcom County Fire District 7 Administration Headquarters\, 5616 3rd Avenue\, Ferndale\, WA\, 98248\, United States
CATEGORIES:Community Events,District Events
ATTACH;FMTTYPE=image/jpeg:https://www.wcfd7.org/wp-content/uploads/2024/09/specialmeetying.jpeg
ORGANIZER;CN="Whatcom County Fire District 7":MAILTO:admin@wcfd7.org
END:VEVENT
END:VCALENDAR